BEGIN:VCALENDAR
VERSION:2.0
PRODID:-//Museum Corryong - ECPv4.6.12//NONSGML v1.0//EN
CALSCALE:GREGORIAN
METHOD:PUBLISH
X-WR-CALNAME:Museum Corryong
X-ORIGINAL-URL:http://manfromsnowyrivermuseum.com.au
X-WR-CALDESC:Events for Museum Corryong
BEGIN:VEVENT
DTSTART;VALUE=DATE:20101010
DTEND;VALUE=DATE:20251111
DTSTAMP:20190227T071359
CREATED:20180123T030641Z
LAST-MODIFIED:20180313T060321Z
UID:503-1286668800-1762819199@manfromsnowyrivermuseum.com.au
SUMMARY:School & Bus Groups
DESCRIPTION:School groups and bus tour groups are welcome and a personal volunteer tour guide will be provided if available. The Cudgewa North School building can be used to seat a class of up to 20 children and special activities can be arranged – just talk to our committee by phoning or emailing beforehand. \n
URL:http://manfromsnowyrivermuseum.com.au/event/503/
LOCATION:103 Hanson St Corryong Vic 3707\, Corryong\, VIC\, 3707\, Australia
ATTACH;FMTTYPE=image/jpeg:http://manfromsnowyrivermuseum.com.au/wp-content/uploads/2018/01/5.jpg
END:VEVENT
END:VCALENDAR